BEGIN:VCALENDAR
VERSION:2.0
PRODID:-//InStyle - ECPv6.15.20//NONSGML v1.0//EN
CALSCALE:GREGORIAN
METHOD:PUBLISH
X-ORIGINAL-URL:https://www.instyle-rostock.de
X-WR-CALDESC:Veranstaltungen für InStyle
REFRESH-INTERVAL;VALUE=DURATION:PT1H
X-Robots-Tag:noindex
X-PUBLISHED-TTL:PT1H
BEGIN:VTIMEZONE
TZID:Europe/Berlin
BEGIN:DAYLIGHT
TZOFFSETFROM:+0100
TZOFFSETTO:+0200
TZNAME:CEST
DTSTART:20210328T010000
END:DAYLIGHT
BEGIN:STANDARD
TZOFFSETFROM:+0200
TZOFFSETTO:+0100
TZNAME:CET
DTSTART:20211031T010000
END:STANDARD
BEGIN:DAYLIGHT
TZOFFSETFROM:+0100
TZOFFSETTO:+0200
TZNAME:CEST
DTSTART:20220327T010000
END:DAYLIGHT
BEGIN:STANDARD
TZOFFSETFROM:+0200
TZOFFSETTO:+0100
TZNAME:CET
DTSTART:20221030T010000
END:STANDARD
BEGIN:DAYLIGHT
TZOFFSETFROM:+0100
TZOFFSETTO:+0200
TZNAME:CEST
DTSTART:20230326T010000
END:DAYLIGHT
BEGIN:STANDARD
TZOFFSETFROM:+0200
TZOFFSETTO:+0100
TZNAME:CET
DTSTART:20231029T010000
END:STANDARD
END:VTIMEZONE
BEGIN:VEVENT
DTSTART;VALUE=DATE:20220604
DTEND;VALUE=DATE:20220605
DTSTAMP:20260425T022756
CREATED:20220523T073352Z
LAST-MODIFIED:20221130T103646Z
UID:797-1654300800-1654387199@www.instyle-rostock.de
SUMMARY:Private Veranstaltung
DESCRIPTION:Wir freuen uns sehr\, bei einem so unvergesslichen Ereignis dabei sein zu dürfen. Wir wünschen dem zukünftigen Brautpaar alles Liebe und sind hochmotiviert eure Hochzeit mit einem tollen Programm zu unterstützen.
URL:https://www.instyle-rostock.de/event/private-veranstaltung/
LOCATION:Demmin
ATTACH;FMTTYPE=image/jpeg:https://www.instyle-rostock.de/wp-content/uploads/2020/04/flowers-260894_1920.jpg
END:VEVENT
BEGIN:VEVENT
DTSTART;TZID=Europe/Berlin:20220617T174500
DTEND;TZID=Europe/Berlin:20220617T181500
DTSTAMP:20260425T022756
CREATED:20220523T080144Z
LAST-MODIFIED:20221130T103646Z
UID:806-1655487900-1655489700@www.instyle-rostock.de
SUMMARY:Reclaim your Street
DESCRIPTION:Beim Jugendaktionstag sind wir zum 3. Mal dabei. Ganz tolle Themen\, von jungen Leuten für Jung und Alt. Kommt in die Stadt und seit dabei. \n 
URL:https://www.instyle-rostock.de/event/reclaim-your-street/
LOCATION:Rostock Innenstadt
END:VEVENT
BEGIN:VEVENT
DTSTART;TZID=Europe/Berlin:20220618T170000
DTEND;TZID=Europe/Berlin:20220618T173000
DTSTAMP:20260425T022756
CREATED:20220523T115900Z
LAST-MODIFIED:20221130T103646Z
UID:809-1655571600-1655573400@www.instyle-rostock.de
SUMMARY:Fischerfest Reutershagen
DESCRIPTION:Direkt am Schwaanenteich in Reutershagen dürfen wir unser abwechslungsreiches Programm präsentieren.
URL:https://www.instyle-rostock.de/event/fischerfest-reutershagen/
LOCATION:Schwaanteich Reutershagen
ATTACH;FMTTYPE=image/jpeg:https://www.instyle-rostock.de/wp-content/uploads/2022/05/oktoberfest-g4dcdc168e_1920.jpg
END:VEVENT
END:VCALENDAR