BEGIN:VCALENDAR
VERSION:2.0
PRODID:-//InStyle - ECPv6.15.20//NONSGML v1.0//EN
CALSCALE:GREGORIAN
METHOD:PUBLISH
X-WR-CALNAME:InStyle
X-ORIGINAL-URL:https://www.instyle-rostock.de
X-WR-CALDESC:Veranstaltungen für InStyle
REFRESH-INTERVAL;VALUE=DURATION:PT1H
X-Robots-Tag:noindex
X-PUBLISHED-TTL:PT1H
BEGIN:VTIMEZONE
TZID:Europe/Berlin
BEGIN:DAYLIGHT
TZOFFSETFROM:+0100
TZOFFSETTO:+0200
TZNAME:CEST
DTSTART:20220327T010000
END:DAYLIGHT
BEGIN:STANDARD
TZOFFSETFROM:+0200
TZOFFSETTO:+0100
TZNAME:CET
DTSTART:20221030T010000
END:STANDARD
BEGIN:DAYLIGHT
TZOFFSETFROM:+0100
TZOFFSETTO:+0200
TZNAME:CEST
DTSTART:20230326T010000
END:DAYLIGHT
BEGIN:STANDARD
TZOFFSETFROM:+0200
TZOFFSETTO:+0100
TZNAME:CET
DTSTART:20231029T010000
END:STANDARD
BEGIN:DAYLIGHT
TZOFFSETFROM:+0100
TZOFFSETTO:+0200
TZNAME:CEST
DTSTART:20240331T010000
END:DAYLIGHT
BEGIN:STANDARD
TZOFFSETFROM:+0200
TZOFFSETTO:+0100
TZNAME:CET
DTSTART:20241027T010000
END:STANDARD
END:VTIMEZONE
BEGIN:VEVENT
DTSTART;TZID=Europe/Berlin:20230816T160000
DTEND;TZID=Europe/Berlin:20230816T170000
DTSTAMP:20260424T014536
CREATED:20230811T184607Z
LAST-MODIFIED:20230811T184607Z
UID:895-1692201600-1692205200@www.instyle-rostock.de
SUMMARY:Diakonie Rostocker Stadtmission Kita "Sonnenkinderhaus"
DESCRIPTION:
URL:https://www.instyle-rostock.de/event/diakonie-rostocker-stadtmission-kita-sonnenkinderhaus/
ATTACH;FMTTYPE=image/jpeg:https://www.instyle-rostock.de/wp-content/uploads/2018/08/ball-2039726_1280.jpg
END:VEVENT
END:VCALENDAR