BEGIN:VCALENDAR
VERSION:2.0
PRODID:-//InStyle - ECPv6.15.20//NONSGML v1.0//EN
CALSCALE:GREGORIAN
METHOD:PUBLISH
X-ORIGINAL-URL:https://www.instyle-rostock.de
X-WR-CALDESC:Veranstaltungen für InStyle
REFRESH-INTERVAL;VALUE=DURATION:PT1H
X-Robots-Tag:noindex
X-PUBLISHED-TTL:PT1H
BEGIN:VTIMEZONE
TZID:Europe/Berlin
BEGIN:DAYLIGHT
TZOFFSETFROM:+0100
TZOFFSETTO:+0200
TZNAME:CEST
DTSTART:20250330T010000
END:DAYLIGHT
BEGIN:STANDARD
TZOFFSETFROM:+0200
TZOFFSETTO:+0100
TZNAME:CET
DTSTART:20251026T010000
END:STANDARD
BEGIN:DAYLIGHT
TZOFFSETFROM:+0100
TZOFFSETTO:+0200
TZNAME:CEST
DTSTART:20260329T010000
END:DAYLIGHT
BEGIN:STANDARD
TZOFFSETFROM:+0200
TZOFFSETTO:+0100
TZNAME:CET
DTSTART:20261025T010000
END:STANDARD
BEGIN:DAYLIGHT
TZOFFSETFROM:+0100
TZOFFSETTO:+0200
TZNAME:CEST
DTSTART:20270328T010000
END:DAYLIGHT
BEGIN:STANDARD
TZOFFSETFROM:+0200
TZOFFSETTO:+0100
TZNAME:CET
DTSTART:20271031T010000
END:STANDARD
END:VTIMEZONE
BEGIN:VEVENT
DTSTART;TZID=Europe/Berlin:20260530T000000
DTEND;TZID=Europe/Berlin:20260530T000000
DTSTAMP:20260423T202118
CREATED:20250503T154632Z
LAST-MODIFIED:20260414T141005Z
UID:959-1780099200-1780099200@www.instyle-rostock.de
SUMMARY:KTV Fest Rostock
DESCRIPTION:Wir freuen uns sehr bei diesem Event dabei sein zu dürfen. Kommt am 30. Mai  zum Margarethenplatz… \nhttps://ktv-verein.de/ktv-fest
URL:https://www.instyle-rostock.de/event/ktv-fest-rostock/
END:VEVENT
END:VCALENDAR